BEGIN:VCALENDAR
VERSION:2.0
PRODID:-//wp-events-plugin.com//7.2.3.1//EN
TZID:Asia/Tokyo
X-WR-TIMEZONE:Asia/Tokyo
BEGIN:VEVENT
UID:139@osaka-kosodate-suminoe.net
DTSTART;TZID=Asia/Tokyo:20231125T100000
DTEND;TZID=Asia/Tokyo:20231125T130000
DTSTAMP:20230929T010042Z
URL:https://osaka-kosodate-suminoe.net/events/%e7%ac%ac%ef%bc%98%e5%9b%9e%
 e4%bd%8f%e4%b9%8b%e6%b1%9f%e5%8c%ba%e5%ad%90%e8%82%b2%e3%81%a6%e5%bf%9c%e6
 %8f%b4%e3%82%a4%e3%83%99%e3%83%b3%e3%83%88%e3%80%80%e3%83%97%e3%83%a9%e3%8
 2%b6%e3%81%ae%e3%83%96/
SUMMARY:第８回住之江区子育て応援イベント　プラザのブ
 ース：手形コーナー
DESCRIPTION:
ATTACH;FMTTYPE=image/jpeg:https://osaka-kosodate-suminoe.net/wp-content/up
 loads/2023/09/PXL_20221112_041532130-scaled.jpg
CATEGORIES:乳幼児,児童
LOCATION:すみのえ舞昆ホール（住之江区民ホール）\, 御崎
 ３丁目１－１７\, 大阪市住之江区\, 大阪府\, 559-0006\, 日
 本
X-APPLE-STRUCTURED-LOCATION;VALUE=URI;X-ADDRESS=御崎３丁目１－１７
 \, 大阪市住之江区\, 大阪府\, 559-0006\, 日本;X-APPLE-RADIUS=10
 0;X-TITLE=すみのえ舞昆ホール（住之江区民ホール）:geo:0,
 0
END:VEVENT
BEGIN:VTIMEZONE
TZID:Asia/Tokyo
X-LIC-LOCATION:Asia/Tokyo
BEGIN:STANDARD
DTSTART:20221125T100000
TZOFFSETFROM:+0900
TZOFFSETTO:+0900
TZNAME:JST
END:STANDARD
END:VTIMEZONE
END:VCALENDAR