BEGIN:VCALENDAR
VERSION:2.0
PRODID:-//wp-events-plugin.com//7.2.3.1//EN
TZID:Asia/Tokyo
X-WR-TIMEZONE:Asia/Tokyo
BEGIN:VEVENT
UID:380@osaka-kosodate-suminoe.net
DTSTART;TZID=Asia/Tokyo:20250510T150000
DTEND;TZID=Asia/Tokyo:20250510T160000
DTSTAMP:20250325T030324Z
URL:https://osaka-kosodate-suminoe.net/events/%e5%85%90%e7%ab%a5%e5%b7%a5%
 e4%bd%9c%e3%80%8c%e7%89%9b%e4%b9%b3%e3%83%91%e3%83%83%e3%82%af%e3%81%a7%e3
 %81%b3%e3%81%a3%e3%81%8f%e3%82%8a%e7%ae%b1%e3%82%92%e4%bd%9c%e3%82%8d%e3%8
 1%86%ef%bc%81%e3%80%8d/
SUMMARY:児童工作「牛乳パックでびっくり箱を作ろう！」
DESCRIPTION:
ATTACH;FMTTYPE=image/jpeg:https://osaka-kosodate-suminoe.net/wp-content/up
 loads/2025/03/IMG_0925.jpg
CATEGORIES:児童
LOCATION:住之江区子ども・子育てプラザ　2階 自習室\, 浜
 口西3-4-22\, 大阪市住之江区\, 559-0006\, 日本
X-APPLE-STRUCTURED-LOCATION;VALUE=URI;X-ADDRESS=浜口西3-4-22\, 大阪市
 住之江区\, 559-0006\, 日本;X-APPLE-RADIUS=100;X-TITLE=住之江区
 子ども・子育てプラザ　2階 自習室:geo:0,0
END:VEVENT
BEGIN:VTIMEZONE
TZID:Asia/Tokyo
X-LIC-LOCATION:Asia/Tokyo
BEGIN:STANDARD
DTSTART:20240510T150000
TZOFFSETFROM:+0900
TZOFFSETTO:+0900
TZNAME:JST
END:STANDARD
END:VTIMEZONE
END:VCALENDAR