BEGIN:VCALENDAR
VERSION:2.0
PRODID:-//wp-events-plugin.com//7.2.3.1//EN
TZID:Asia/Tokyo
X-WR-TIMEZONE:Asia/Tokyo
BEGIN:VEVENT
UID:367@osaka-kosodate-suminoe.net
DTSTART;TZID=Asia/Tokyo:20250412T150000
DTEND;TZID=Asia/Tokyo:20250412T160000
DTSTAMP:20250412T043735Z
URL:https://osaka-kosodate-suminoe.net/events/%e5%85%90%e7%ab%a5%e5%b7%a5%
 e4%bd%9c%e3%80%8c%e3%82%a2%e3%82%a4%e3%83%ad%e3%83%b3%e3%83%93%e3%83%bc%e3
 %82%ba%e3%82%92%e4%bd%9c%e3%82%8d%e3%81%86%ef%bc%81%e3%80%8d-2/
SUMMARY:【定員に達しましたので受付を終了しました】児
 童工作「アイロンビーズを楽しもう！」
DESCRIPTION:
ATTACH;FMTTYPE=image/jpeg:https://osaka-kosodate-suminoe.net/wp-content/up
 loads/2025/02/IMG_9834-1.jpg
CATEGORIES:児童
LOCATION:住之江区子ども・子育てプラザ　2階 自習室\, 浜
 口西3-4-22\, 大阪市住之江区\, 559-0006\, 日本
X-APPLE-STRUCTURED-LOCATION;VALUE=URI;X-ADDRESS=浜口西3-4-22\, 大阪市
 住之江区\, 559-0006\, 日本;X-APPLE-RADIUS=100;X-TITLE=住之江区
 子ども・子育てプラザ　2階 自習室:geo:0,0
END:VEVENT
BEGIN:VTIMEZONE
TZID:Asia/Tokyo
X-LIC-LOCATION:Asia/Tokyo
BEGIN:STANDARD
DTSTART:20240412T150000
TZOFFSETFROM:+0900
TZOFFSETTO:+0900
TZNAME:JST
END:STANDARD
END:VTIMEZONE
END:VCALENDAR