BEGIN:VCALENDAR
VERSION:2.0
PRODID:-//wp-events-plugin.com//7.2.3.1//EN
TZID:Asia/Tokyo
X-WR-TIMEZONE:Asia/Tokyo
BEGIN:VEVENT
UID:411@osaka-kosodate-suminoe.net
DTSTART;TZID=Asia/Tokyo:20250710T100000
DTEND;TZID=Asia/Tokyo:20250710T143000
DTSTAMP:20250523T021617Z
URL:https://osaka-kosodate-suminoe.net/events/%e3%83%97%e3%83%a9%e3%82%b6%
 e3%83%bb%e5%a4%8f%e3%81%ae%e3%83%95%e3%82%a7%e3%82%b9%e3%82%bf%ef%bc%88%ef
 %bc%92%e5%9b%9e%e5%ae%9f%e6%96%bd%ef%bc%89/
SUMMARY:プラザ・夏のフェスタ（２回実施）
DESCRIPTION:
ATTACH;FMTTYPE=image/jpeg:https://osaka-kosodate-suminoe.net/wp-content/up
 loads/2024/05/R6-夏のフェスタポスター-HP用-pdf.jpg
CATEGORIES:乳幼児
LOCATION:住之江区子ども・子育てプラザ　軽運動室\, 浜口
 西3-4-22\, 大阪市住之江区\, 大阪府\, 559-0006\, 日本
X-APPLE-STRUCTURED-LOCATION;VALUE=URI;X-ADDRESS=浜口西3-4-22\, 大阪市
 住之江区\, 大阪府\, 559-0006\, 日本;X-APPLE-RADIUS=100;X-TITLE=
 住之江区子ども・子育てプラザ　軽運動室:geo:0,0
END:VEVENT
BEGIN:VTIMEZONE
TZID:Asia/Tokyo
X-LIC-LOCATION:Asia/Tokyo
BEGIN:STANDARD
DTSTART:20240710T100000
TZOFFSETFROM:+0900
TZOFFSETTO:+0900
TZNAME:JST
END:STANDARD
END:VTIMEZONE
END:VCALENDAR