BEGIN:VCALENDAR
VERSION:2.0
PRODID:-//wp-events-plugin.com//7.2.3.1//EN
TZID:Asia/Tokyo
X-WR-TIMEZONE:Asia/Tokyo
BEGIN:VEVENT
UID:138@osaka-kosodate-suminoe.net
DTSTART;TZID=Asia/Tokyo:20231111T100000
DTEND;TZID=Asia/Tokyo:20231111T110000
DTSTAMP:20231006T064606Z
URL:https://osaka-kosodate-suminoe.net/events/%e3%81%b5%e3%81%81%e3%81%bf%
 e3%81%95%e3%81%bd%e4%ba%a4%e6%b5%81%e4%bc%9a%ef%bd%9e%e4%ba%ba%e5%bd%a2%e5
 %8a%87%e3%82%92%e3%81%bf%e3%82%93%e3%81%aa%e3%81%a7%e8%a6%8b%e3%82%88%e3%8
 1%86%ef%bd%9e/
SUMMARY:ふぁみさぽ交流会～人形劇をみんなで見よう～
DESCRIPTION:
ATTACH;FMTTYPE=image/jpeg:https://osaka-kosodate-suminoe.net/wp-content/up
 loads/2023/02/アイコン640×640.png
CATEGORIES:乳幼児,児童
LOCATION:住之江区子ども・子育てプラザ　軽運動室\, 浜口
 西3-4-22\, 大阪市住之江区\, 大阪府\, 559-0006\, 日本
X-APPLE-STRUCTURED-LOCATION;VALUE=URI;X-ADDRESS=浜口西3-4-22\, 大阪市
 住之江区\, 大阪府\, 559-0006\, 日本;X-APPLE-RADIUS=100;X-TITLE=
 住之江区子ども・子育てプラザ　軽運動室:geo:0,0
END:VEVENT
BEGIN:VTIMEZONE
TZID:Asia/Tokyo
X-LIC-LOCATION:Asia/Tokyo
BEGIN:STANDARD
DTSTART:20221111T100000
TZOFFSETFROM:+0900
TZOFFSETTO:+0900
TZNAME:JST
END:STANDARD
END:VTIMEZONE
END:VCALENDAR