BEGIN:VCALENDAR
VERSION:2.0
PRODID:-//wp-events-plugin.com//7.2.3.1//EN
TZID:Asia/Tokyo
X-WR-TIMEZONE:Asia/Tokyo
BEGIN:VEVENT
UID:424@osaka-kosodate-suminoe.net
DTSTART;TZID=Asia/Tokyo:20250724T103000
DTEND;TZID=Asia/Tokyo:20250724T120000
DTSTAMP:20250702T091427Z
URL:https://osaka-kosodate-suminoe.net/events/%e3%80%90%e7%94%b3%e8%be%bc%
 e5%bf%85%e8%a6%81%e3%80%91%e5%85%90%e7%ab%a5%e3%82%af%e3%83%83%e3%82%ad%e3
 %83%b3%e3%82%b0%e3%80%8c%e7%84%bc%e3%81%8d%e3%81%9d%e3%81%b0%e3%83%8a%e3%8
 3%9d%e3%83%aa%e3%82%bf/
SUMMARY:※定員に達しました【申込必要】児童クッキング
 「焼きそばナポリタンとフルーツヨーグルトを作ろう
 ！」
DESCRIPTION:
ATTACH;FMTTYPE=image/jpeg:https://osaka-kosodate-suminoe.net/wp-content/up
 loads/2024/05/d-5-03.png
CATEGORIES:児童
LOCATION:住之江区子ども・子育てプラザ\, 浜口西3-4-22\, 大
 阪市住之江区\, 大阪府\, 559-0006\, 日本
X-APPLE-STRUCTURED-LOCATION;VALUE=URI;X-ADDRESS=浜口西3-4-22\, 大阪市
 住之江区\, 大阪府\, 559-0006\, 日本;X-APPLE-RADIUS=100;X-TITLE=
 住之江区子ども・子育てプラザ:geo:0,0
END:VEVENT
BEGIN:VTIMEZONE
TZID:Asia/Tokyo
X-LIC-LOCATION:Asia/Tokyo
BEGIN:STANDARD
DTSTART:20240724T103000
TZOFFSETFROM:+0900
TZOFFSETTO:+0900
TZNAME:JST
END:STANDARD
END:VTIMEZONE
END:VCALENDAR