BEGIN:VCALENDAR
VERSION:2.0
PRODID:-//wp-events-plugin.com//7.2.3.1//EN
TZID:Asia/Tokyo
X-WR-TIMEZONE:Asia/Tokyo
BEGIN:VEVENT
UID:70@osaka-kosodate-suminoe.net
DTSTART;TZID=Asia/Tokyo:20230701T100000
DTEND;TZID=Asia/Tokyo:20230701T113000
DTSTAMP:20230602T023442Z
URL:https://osaka-kosodate-suminoe.net/events/%e3%80%90%e7%94%b3%e8%be%bc%
 e5%bf%85%e8%a6%81%e3%80%91%e3%83%97%e3%83%ac%e3%83%9e%e3%83%9e%e3%83%bb%e3
 %83%97%e3%83%ac%e3%83%91%e3%83%91%e5%bf%9c%e6%8f%b4%e8%ac%9b%e5%ba%a7/
SUMMARY:【申込必要】プレママ・プレパパ応援講座
DESCRIPTION:
ATTACH;FMTTYPE=image/jpeg:https://osaka-kosodate-suminoe.net/wp-content/up
 loads/2023/04/image001.jpg
CATEGORIES:保護者・支援者
LOCATION:住之江区子ども・子育てプラザ　1階　講習室A\, 
 浜口西3-4-22\, 大阪市住之江区\, 大阪府\, 559-0006\, 日本
X-APPLE-STRUCTURED-LOCATION;VALUE=URI;X-ADDRESS=浜口西3-4-22\, 大阪市
 住之江区\, 大阪府\, 559-0006\, 日本;X-APPLE-RADIUS=100;X-TITLE=
 住之江区子ども・子育てプラザ　1階　講習室A:geo:0,0
END:VEVENT
BEGIN:VTIMEZONE
TZID:Asia/Tokyo
X-LIC-LOCATION:Asia/Tokyo
BEGIN:STANDARD
DTSTART:20220701T100000
TZOFFSETFROM:+0900
TZOFFSETTO:+0900
TZNAME:JST
END:STANDARD
END:VTIMEZONE
END:VCALENDAR